BEGIN:VCALENDAR
VERSION:2.0
PRODID:-//AudioTheme 3.0.2
BEGIN:VEVENT
UID:urn:uuid:93ca4e11-d1ce-45c3-8981-c499e9ac85db
URL:https://celticsoul.co.uk/shows/2025-12-20/
DTSTART;TZID=GMT:20251220T190000
SUMMARY:Whale Theatre
DESCRIPTION:The Whale Theatre is delighted to announce that a newly formed not-for-profit group\, The Whale Theatre Company CLG\, will assume operations of the beloved Greystones venue this autumn\, ushering in a new era of community-led cultural programming.
LOCATION:Whale Theatre\, Theatre Lane\, Adjacent Meridian Point\,\, Greystones\,\, Co Wicklow\, Ireland\, A63 V1F8
END:VEVENT
END:VCALENDAR
