BEGIN:VCALENDAR
VERSION:2.0
PRODID:-//AudioTheme 3.0.2
BEGIN:VEVENT
UID:urn:uuid:2eb450e4-caf2-46fe-98cf-41e409866c2e
URL:https://celticsoul.co.uk/shows/balor-arts-centre/
DTSTART;TZID=GMT:20260613T183000
SUMMARY:Balor Arts Centre
DESCRIPTION:One of Donegal’s leading arts venues\, offering top-class facilities and a reputation for nurturing quality music\, theatre and culture.
LOCATION:Balor Arts Centre\, Main Street\, Ballybofey\, Donegal\, Ireland
END:VEVENT
END:VCALENDAR
