BEGIN:VCALENDAR
VERSION:2.0
PRODID:-//AudioTheme 3.0.2
BEGIN:VEVENT
UID:urn:uuid:449142ba-26f3-48b5-81f9-dac1ce77a196
URL:https://celticsoul.co.uk/shows/bangor-walled-garden/
DTSTART;TZID=GMT:20260831T000000
SUMMARY:Castle Walled Garden
DESCRIPTION:The Bangor Walled Garden at Bangor Castle is a standout Open House Festival venue\, offering live music and arts performances in a beautiful historic garden setting. Its relaxed outdoor atmosphere and unique surroundings make it a favourite for summer shows and intimate festival experiences.
LOCATION:Castle Walled Garden\, Valentine Road\, Bangor\, County Down\, Northern Ireland\, BT20 4BT
END:VEVENT
END:VCALENDAR
