BEGIN:VCALENDAR
VERSION:2.0
PRODID:-//AudioTheme 3.0.2
BEGIN:VEVENT
UID:urn:uuid:9b1765d2-d786-49d3-b954-1376dc577241
URL:https://celticsoul.co.uk/shows/black-box/
DTSTART;TZID=GMT:20260425T190000
SUMMARY:Black Box
DESCRIPTION:A home for live music\, theatre\, literature\, comedy\, film\, visual art\, science\, circus\, cabaret and all points in between –
LOCATION:Black Box\, 18-22 Hill St\,\, Belfast\, \, Ireland\, BT1 2LA
END:VEVENT
END:VCALENDAR
