BEGIN:VCALENDAR
VERSION:2.0
PRODID:-//AudioTheme 3.0.2
BEGIN:VEVENT
UID:urn:uuid:431b2ab9-7b53-4791-978e-49b2a993c675
URL:https://celticsoul.co.uk/shows/lisburn-island-arts/
DTSTART;TZID=GMT:20261010T183000
SUMMARY:Lisburn Island Arts
DESCRIPTION:The ISLAND Arts Centre in Lisburn is a vibrant cultural hub on Lagan Valley Island\, hosting a year-round programme of live music\, theatre\, comedy\, film and visual arts. With an intimate theatre and flexible performance spaces\, it brings together touring artists\, local talent and community projects\, making it a key destination for high-quality\, accessible arts experiences in the region.
LOCATION:Island Arts Centre\, Lagan Valley Island\, Lisburn\, \, Ireland\, BT27 4RL
END:VEVENT
END:VCALENDAR
