BEGIN:VCALENDAR
VERSION:2.0
PRODID:-//AudioTheme 3.0.2
BEGIN:VEVENT
UID:urn:uuid:c8381e23-4f97-47d5-85fb-7c5f80cf10f4
URL:https://celticsoul.co.uk/shows/market-place-theatre/
DTSTART;TZID=GMT:20260523T183000
SUMMARY:Market Place Theatre
DESCRIPTION:The Market Place Theatre & Arts Centre is one of Ireland's leading arts and entertainment venues. This state-of-the-art venue and conference centre is situated in the heart of Armagh City.
LOCATION:Market Place Theatre\, 9 Market St\, Armagh\, \, Ireland\, BT61 7BW
END:VEVENT
END:VCALENDAR
